BEGIN:VCALENDAR
VERSION:2.0
PRODID:-//Golden Path - ECPv6.11.2.1//NONSGML v1.0//EN
CALSCALE:GREGORIAN
METHOD:PUBLISH
X-WR-CALNAME:Golden Path
X-ORIGINAL-URL:https://goldenpath.se
X-WR-CALDESC:Events for Golden Path
REFRESH-INTERVAL;VALUE=DURATION:PT1H
X-Robots-Tag:noindex
X-PUBLISHED-TTL:PT1H
BEGIN:VTIMEZONE
TZID:Europe/Stockholm
BEGIN:DAYLIGHT
TZOFFSETFROM:+0100
TZOFFSETTO:+0200
TZNAME:CEST
DTSTART:20260329T010000
END:DAYLIGHT
BEGIN:STANDARD
TZOFFSETFROM:+0200
TZOFFSETTO:+0100
TZNAME:CET
DTSTART:20261025T010000
END:STANDARD
END:VTIMEZONE
BEGIN:VEVENT
DTSTART;TZID=Europe/Stockholm:20260411T140000
DTEND;TZID=Europe/Stockholm:20260411T173000
DTSTAMP:20260421T145707
CREATED:20260323T185303Z
LAST-MODIFIED:20260323T185410Z
UID:3402-1775916000-1775928600@goldenpath.se
SUMMARY:Familjekonstellations workshop
DESCRIPTION:Varmt välkomna till en workshop med familjekonstellationer! \n\n\n\n\nFamiljekonstellationer är en metod som kan befria oss från smärtsamma mönster\, hjälpa oss att få tillbaka vår naturliga livskraft\, finna vår frihet och förstå vad det innebär att vara oss själva. \n\n\n\nDen här stunden kommer vi tillsammans att uppleva närvaro och läkning genom den här vackra metoden. Du behöver inte känna till familjekonstellationer sen tidigare. Du kommer att få en del förklaring av metoden men framförallt en upplevelse. \n\n\n\n\nEfter konstellationerna kommer vi att dela om det som berörts i oss. Vi kommer alla från ett familjesystem och därför är det lätt att känna igen sig även när det inte är din egen konstellation som ställs upp. \n\n\n\nÄmnen som vi kan titta på hos den som tar emot en konstellation kan vara problematik av olika slag\, anknytningssvårigheter i relationer\, problem med partners\, barn\, föräldrar eller obegripliga negativa känslor\, sjukdomar\, missbruk mm. \n\n\n\nMan kan välja att vara med som representant i gruppen eller att få sin egen konstellation uppställd. Om du har en problematik som du inte lyckats lösa genom andra metoder kanske det är något som ligger i ditt familjesystem som vi kan titta på. \n\n\n\nInvestering: 1500 kr för en egen konstellation (2 platser finns varav den ena är bokad) och 250 kr för att vara representant (finns flera platser kvar). \n\n\n\nAnmälan och frågor till Emma via messenger eller tel. 0732-304022 eller e-post: emmadinmali@gmail.com \n\n\n\nDu kan betala via Swish: 123 168 1824 eller Bankgiro: 399-4266Skriv: Familjekonstellationer som meddelande om du gör det i förväg. Annars finns QR-kod till Swish när vi ses. \n\n\n\nDet kommer att finnas te men ta gärna med om du vill ha något att fika eller äta i vår paus mellan de två konstellationerna. \n\n\n\nVar: Vardagsrummet i vårt nya hem på Kolonigatan 8 i Höganäs. \n\n\n\nSkriv gärna i evenemanget om samåkning. \n\n\n\nFör den som är allergisk så har vi har en katt hemma. \n\n\n\nVarmt välkomna! Emma
URL:https://goldenpath.se/event/familjekonstellations-workshop-13/
CATEGORIES:Workshop
ATTACH;FMTTYPE=image/png:https://goldenpath.se/wp-content/uploads/2026/03/9.png
END:VEVENT
END:VCALENDAR