BEGIN:VCALENDAR
VERSION:2.0
PRODID:-//Golden Path - ECPv6.11.2.1//NONSGML v1.0//EN
CALSCALE:GREGORIAN
METHOD:PUBLISH
X-WR-CALNAME:Golden Path
X-ORIGINAL-URL:https://goldenpath.se
X-WR-CALDESC:Events for Golden Path
REFRESH-INTERVAL;VALUE=DURATION:PT1H
X-Robots-Tag:noindex
X-PUBLISHED-TTL:PT1H
BEGIN:VTIMEZONE
TZID:Europe/Stockholm
BEGIN:DAYLIGHT
TZOFFSETFROM:+0100
TZOFFSETTO:+0200
TZNAME:CEST
DTSTART:20250330T010000
END:DAYLIGHT
BEGIN:STANDARD
TZOFFSETFROM:+0200
TZOFFSETTO:+0100
TZNAME:CET
DTSTART:20251026T010000
END:STANDARD
END:VTIMEZONE
BEGIN:VEVENT
DTSTART;TZID=Europe/Stockholm:20250308T150000
DTEND;TZID=Europe/Stockholm:20250308T170000
DTSTAMP:20260423T223616
CREATED:20250120T151431Z
LAST-MODIFIED:20250120T152047Z
UID:2278-1741446000-1741453200@goldenpath.se
SUMMARY:Ros-cirkel
DESCRIPTION:Välkommen in i cirkeln där vi blir hållna i ett mjukt space och hämtar näring ur systerskapets gemenskap. \n\n\n\nVi kallar in “the Guardians of the Magdalene Wheel” och kopplar upp oss på en högre frekvens.Med eterisk olja\, rosornas skönhet\, doft och frekvens lutar vi oss in i ett fält där vi tryggt kan både vila i tystnad och dela om livet så som det uppenbarar sig i stunden. Genom att lyssna på varandra och ta in varandras sårbarhet och visdom kan vi spegla oss och gå djupare in i oss själva. \n\n\n\n¤ Vi kallar in väderstrecken med the Magdalene Wheel¤ Eterisk olja¤ Delning i cirkeln¤ Ros-healing¤ Orakel kort¤ Ros te \n\n\n\nCirkeln kommer att guidas av Emma:Jag har blivit initierad i Path of Magdalene på den magiska platsen Glastonbury. Temat för denna gång är en rosa ros som får påminna oss om villkorslös kärlek och om sacred union där det feminina och maskulina lever i harmoni inom oss. Vi kommer att fira den internationella kvinnodagen tillsammans där vår omsorg och kärlek får nära både oss i rummet och välla över på våra mödrar\, väninnor och kvinnor över världen som vi ännu inte känner. Kan du känna harmoni mellan din inre maskulina och feminina del? \n\n\n\nFrivillig donation\, förslag: 100-200 kr. \n\n\n\nAnmälan till Emma Dinmali Fredhamn via messenger eller sms: 0732-30 40 22 eller e-post: emma@goldenpath.se \n\n\n\nDet finns en katt i huset\, så att den som är allergiker vet. \n\n\n\nKom gärna 5-10 min innan vi börjar och landa i rummet. Dörren står öppen från 14.45. \n\n\n\nInga förkunskaper behövs. \n\n\n\nOm Emma: Emma har jobbat som terapeut sedan 2003 och har de sista åren närt denna väg som vi kan kalla Path of Magdalene. Under 2023- 24 har hon gått igenom Path of the Magdalene initiations nivå I\, II och III med Anaïs Theyskens – Founder Path of Magdalene där sista delen var i Avalon/ Glastonbury i England. Hon har även påbörjat the Ministry med ordination i juni 2025. \n\n\n\nVarmt välkommen! Emma
URL:https://goldenpath.se/event/ros-cirkel-2/
LOCATION:Zen room\, Fredsgatan 11\, 264 32 Klippan
CATEGORIES:Workshop
ATTACH;FMTTYPE=image/png:https://goldenpath.se/wp-content/uploads/2025/01/Ros-cirkel-fb-format-mindre.png
END:VEVENT
BEGIN:VEVENT
DTSTART;TZID=Europe/Stockholm:20250329T100000
DTEND;TZID=Europe/Stockholm:20250329T133000
DTSTAMP:20260423T223616
CREATED:20250313T095424Z
LAST-MODIFIED:20250320T165227Z
UID:2497-1743242400-1743255000@goldenpath.se
SUMMARY:Familjekonstellations workshop
DESCRIPTION:Varmt välkomna till en workshop med familjekonstellationer! \n\n\n\nFamiljekonstellationer är en metod som kan befria oss från smärtsamma mönster\, hjälpa oss att få tillbaka vår naturliga livskraft\, finna vår frihet och förstå vad det innebär att vara oss själva. \n\n\n\nDen här stunden kommer vi tillsammans att uppleva närvaro och läkning genom den här vackra metoden. Du behöver inte känna till familjekonstellationer sen tidigare. Du kommer att få en del förklaring av metoden men framförallt en upplevelse. \n\n\n\nMellan konstellationerna kommer vi att dela om det som berörts i oss. Vi kommer alla från ett familjesystem och därför är det lätt att känna igen sig även när det inte är din egen konstellation som ställs upp. \n\n\n\nÄmnen som vi kan titta på hos den som tar emot en konstellation kan vara problematik av olika slag\, anknytningssvårigheter i relationer\, problem med partners\, barn\, föräldrar eller obegripliga negativa känslor\, sjukdomar\, missbruk mm. \n\n\n\nMan kan välja att vara med som representant i gruppen eller att få sin egen konstellation uppställd. Om du har en problematik som du inte lyckats lösa genom andra metoder kanske det är något som ligger i ditt familjesystem som vi kan titta på. \n\n\n\nInvestering: 1300 kr för en egen konstellation (2 platser finns varav och båda är bokade) och 200 kr för att vara representant (finns flera platser kvar).Ta med kontanter eller så får du swish-nummer när vi ses.Anmälan och frågor till Emma via messenger eller tel. 0732-304022 eller e-post: emmadinmali@gmail.com \n\n\n\nDet kommer att finnas te men ta gärna med om du vill ha något att fika eller äta i vår paus mellan de två konstellationerna. \n\n\n\nVar: Zen-room i vårt hem på Fredsgatan 11\, i Klippan.Tåg från Helsingborg till Klippans station kl. (14 min att gå).Buss 510 från Ängelholm går till hållplats Klippan Åbyhem (4 min att gå efter det.) \n\n\n\nSkriv gärna i evenemanget om samåkning. \n\n\n\nFör den som är allergisk så har vi har en katt hemma. \n\n\n\nDu kan läsa mer om familjekonstellationer under fliken Emma \n\n\n\nVarmt välkomna! Emma
URL:https://goldenpath.se/event/familjekonstellations-workshop-3/
CATEGORIES:Workshop
ATTACH;FMTTYPE=image/jpeg:https://goldenpath.se/wp-content/uploads/2025/03/Familje-konst-4.jpg
END:VEVENT
END:VCALENDAR