BEGIN:VCALENDAR
VERSION:2.0
PRODID:-//Golden Path - ECPv6.11.2.1//NONSGML v1.0//EN
CALSCALE:GREGORIAN
METHOD:PUBLISH
X-ORIGINAL-URL:https://goldenpath.se
X-WR-CALDESC:Events for Golden Path
REFRESH-INTERVAL;VALUE=DURATION:PT1H
X-Robots-Tag:noindex
X-PUBLISHED-TTL:PT1H
BEGIN:VTIMEZONE
TZID:Europe/Stockholm
BEGIN:DAYLIGHT
TZOFFSETFROM:+0100
TZOFFSETTO:+0200
TZNAME:CEST
DTSTART:20240331T010000
END:DAYLIGHT
BEGIN:STANDARD
TZOFFSETFROM:+0200
TZOFFSETTO:+0100
TZNAME:CET
DTSTART:20241027T010000
END:STANDARD
END:VTIMEZONE
BEGIN:VEVENT
DTSTART;TZID=Europe/Stockholm:20241102T103000
DTEND;TZID=Europe/Stockholm:20241102T130000
DTSTAMP:20260424T033641
CREATED:20240710T112724Z
LAST-MODIFIED:20241002T151554Z
UID:1732-1730543400-1730552400@goldenpath.se
SUMMARY:Den fantastiska resan hem
DESCRIPTION:Jem berättar om sitt liv och resa\, erfarenheter och insikter. Vad som väglett honom vid stora livsval som att lämna arbete som jurist\, resa till Indien\, komma hem till Plum Village i Frankrike\, 18 år som buddhistisk munk\, erfarenheten med stadie 4 cancer och att återvända till Sverige och låta håret växa. \n\n\n\nJem blandar in glädje och förundran i sin berättelse\, som även inkluderar erfarenheter med hans lärare Thich Nhat Hanh. Några återkommande element i Jems resa är att nya möjligheter öppnar sig med varje steg\, att möta utmaningar med vänlighet och villighet att utvecklas\, att se sina vanor och föreställningar tydligare tack vare olika sammanhang. \n\n\n\nVi kommer meditera tillsammans\, få tillfälle att reflektera över vår egen livsresa\, och mötas i gemenskap. \n\n\n\nVi får också tillfälle att köpa Jems bok: Läkning är möjlig – min resa genom cancer till rabatterat pris. \n\n\n\nInvestering/kostnad: 250 kr – kontakta Jem för att anmäla dig;e-post:jem@goldenpath.se\, sms:0707389849 (workshop och bok = 400 kr)
URL:https://goldenpath.se/event/den-fantastiska-resan-hem/
LOCATION:Studio Atma\, Salthallarna Bruksgatan 36\, Höganäs\, Sverige\, Bruksgatan 36\, Höganäs\, Skåne\, 26339\, Sverige
CATEGORIES:Salthallarna, Höganäs,Workshop
ATTACH;FMTTYPE=image/jpeg:https://goldenpath.se/wp-content/uploads/2024/07/fantastisk-resa.jpg
END:VEVENT
BEGIN:VEVENT
DTSTART;TZID=Europe/Stockholm:20241109T100000
DTEND;TZID=Europe/Stockholm:20241109T130000
DTSTAMP:20260424T033641
CREATED:20240709T121904Z
LAST-MODIFIED:20240709T122143Z
UID:1710-1731146400-1731157200@goldenpath.se
SUMMARY:TRE - Trauma Release Exercises - Skaka dig fri!
DESCRIPTION:Välkommen till en workshop där du får lära dig TRE – Tension & Trauma Release Exercises eller för dig som vill repetera och få stöd att komma vidare med ditt skak. \n\n\n\nGenom denna teknik får du stöd att förlösa ny och gammal stress från kropp och nervsystem genom neurogena skakningar. \n\n\n\nTRE är en naturlig metod som förlöser stress från kropp och nervsystem. Det är en enkel metod att lära och om du lägger in dessa övningar i din dagliga rutin öppnar det för en bättre livskvalité med mer balans och en större tolerans för vardagens påfrestningar. \n\n\n\nNär man börjat göra TRE är det vanligt att sömnen blir bättre\, att man känner ett större lugn i kroppen och har färre spänningar\, mindre irritation\, mer energi och ett jämnare humör. \n\n\n\nDu kommer du att få en introduktion till TRE och hur du ska kunna använda tekniken hemma för att kunna förlösa stress i vardagen. Vi kommer att prata om hur gammal stress och trauman påverkar kroppen och nervsystemet. \n\n\n\nDet kommer att finns utrymme för att skaka två omgångar med en paus emellan. Det finns även tid för att ställa frågor. \n\n\n\nTekniken består i fysiska övningar för att trötta ut främst psoas muskeln och sedan låta kroppens naturliga skakningar förlösa spänningar. Det är bra med löst sittande kläder. \n\n\n\nLokal: Studio Atma\, Salthallarna\, Bruksgatan 36\, Höganäs. \n\n\n\nAnmälan och frågor till Emma Dinmali Fredhamn på e-post: emma@goldenpath.se\, via Messenger eller sms 0732-304022. \n\n\n\nKostnad: 480 kr – swish eller kontant på plats.Broschyr som bl a visar övningarna kan köpas till för 70 kr. \n\n\n\nTe finns för pausen men ta med om du vill äta frukt eller annat. \n\n\n\nEmma är Certifierad TRE instruktör. \n\n\n\nVarmt välkommen!
URL:https://goldenpath.se/event/tre-trauma-release-exercises-skaka-dig-fri-2/
LOCATION:Studio Atma\, Salthallarna\, Bruksgatan 36\, Höganäs\, Sverige
CATEGORIES:Salthallarna, Höganäs,Workshop
ATTACH;FMTTYPE=image/jpeg:https://goldenpath.se/wp-content/uploads/2024/07/cat-stress-free.jpg
END:VEVENT
BEGIN:VEVENT
DTSTART;TZID=Europe/Stockholm:20241130T100000
DTEND;TZID=Europe/Stockholm:20241130T133000
DTSTAMP:20260424T033641
CREATED:20240709T123839Z
LAST-MODIFIED:20240709T123841Z
UID:1716-1732960800-1732973400@goldenpath.se
SUMMARY:Familjekonstellationer
DESCRIPTION:Varmt välkomna till en workshop med familjekonstellationer! \n\n\n\nFamiljekonstellationer är en metod som kan befria oss från smärtsamma mönster\, hjälpa oss att få tillbaka vår naturliga livskraft\, finna vår frihet och förstå vad det innebär att vara oss själva. Kärlek som stoppats upp av smärtsamma händelser i familjen kan börja flöda igen när vi hedrar och tar hand om det som varit. \n\n\n\nDen här stunden tillsammans kommer vi att uppleva närvaro och läkning genom den här vackra metoden. Du behöver inte känna till familjekonstellationer sen tidigare. Du kommer att få en del förklaring av metoden men framförallt en upplevelse. \n\n\n\nMellan konstellationerna kommer vi att dela om det som berörts i oss och ev göra övningar kring det som kommer upp. Vi kommer alla från ett familjesystem och därför är det lätt att känna igen sig och beröras även när det inte är din egen konstellation som ställs upp. \n\n\n\nVi dansar lite och dricker te mellan konstellationerna för att integrera och balansera djup med lätthet. \n\n\n\nÄmnen som kan vi kan titta på hos den som tar emot en konstellation kan vara trauman av olika slag\, anknytningssvårigheter i relationer\, problem med partners\, barn\, föräldrar eller obegripliga negativa känslor\, sjukdomar\, missbruk mm. \n\n\n\nVi kommer inte att bestämma i förväg vem som får sin egen konstellation uppställd utan vi går med det som känns levande i stunden och jobbar med den som är redo. Ibland kommer du kanske att vara representant för någons familjemedlem\, ibland observatör\, kanske får du din egen konstellation uppställd. \n\n\n\nOm ett tema känns viktigt för många kan vi göra en övning för alla.Om du har en problematik som du inte lyckats lösa genom andra metoder kanske det är något som ligger i ditt familjesystem som behöver tittas på. \n\n\n\nDu kan läsa mer om familjekonstellationer och om Emma på hemsidan: www.goldenpath.se \n\n\n\nEmma Dinmali Fredhamn:“Jag gick Osho terapeut utbildning i Pune\, Indien 2002 och en del av utbildningen var familjekonstellationer. Det kändes som om jag hittade en saknad pusselbit. Det jag inte kom åt att jobba med i andra terapier kunde jag nå här. För mig har familjekonstellationerna hjälpt mig till ett liv där jag är fri från många av de tunga känslor jag bar på förr. Sånt som tillhörde mitt familjesystem men inte mig personligen. Jag utbildade mig 2003 i att leda familjekonstellationer för att kunna bidra till andra med den lättnad jag själv fått.” \n\n\n\nKostnad: 350 kr\, kontanter eller swish när vi ses. \n\n\n\nHör av dig med anmälan och frågor till Emma på: 0732-304022 eller e-post: emma@goldenpath.se \n\n\n\nVar: Studio Atma\, Salthallarna\, Bruksgatan 36\, HöganäsVarmt välkomna! Emma
URL:https://goldenpath.se/event/familjekonstellationer/
LOCATION:Studio Atma\, Salthallarna\, Bruksgatan 36\, Höganäs\, Sverige
CATEGORIES:Salthallarna, Höganäs,Workshop
ATTACH;FMTTYPE=image/jpeg:https://goldenpath.se/wp-content/uploads/2024/07/pexels-brandon-montrone-733478.jpg
END:VEVENT
END:VCALENDAR