BEGIN:VCALENDAR
VERSION:2.0
PRODID:-//Golden Path - ECPv6.11.2.1//NONSGML v1.0//EN
CALSCALE:GREGORIAN
METHOD:PUBLISH
X-WR-CALNAME:Golden Path
X-ORIGINAL-URL:https://goldenpath.se
X-WR-CALDESC:Events for Golden Path
REFRESH-INTERVAL;VALUE=DURATION:PT1H
X-Robots-Tag:noindex
X-PUBLISHED-TTL:PT1H
BEGIN:VTIMEZONE
TZID:Europe/Stockholm
BEGIN:DAYLIGHT
TZOFFSETFROM:+0100
TZOFFSETTO:+0200
TZNAME:CEST
DTSTART:20240331T010000
END:DAYLIGHT
BEGIN:STANDARD
TZOFFSETFROM:+0200
TZOFFSETTO:+0100
TZNAME:CET
DTSTART:20241027T010000
END:STANDARD
END:VTIMEZONE
BEGIN:VEVENT
DTSTART;TZID=Europe/Stockholm:20241006T103000
DTEND;TZID=Europe/Stockholm:20241006T130000
DTSTAMP:20260424T044602
CREATED:20240709T115333Z
LAST-MODIFIED:20240709T115715Z
UID:1705-1728210600-1728219600@goldenpath.se
SUMMARY:Tapping\, Teckning och Te
DESCRIPTION:Välkommen till en workshop för dig som vill lära dig hur man lugnar nervsystemet med stöd av EFT tapping och även till som redan kan tekniken och vill utforska eller processa något. \n\n\n\nMed EFT (Emotional Freedom Technique) knackar man med fingrarna på meridianpunkter på händer och överkropp. Genom att hålla fokus på känslomässiga laddningar medan vi knackar får hjärnan en chans att bearbeta på ett nytt sätt och det som känns svårt och laddat kan lugna sig och förlösas. Man får möjlighet att se situationen på ett nytt sätt. \n\n\n\nVi kommer att varva tappingen med att använda vår kreativitet och teckna med kritor och färgpennor kring de teman vi har lust att jobba med. Det blir både lättsamt kreativt och en chans att bearbeta och lösa upp något som är svårt i livet. Vi kommer inte att ägna så många minuter till varje teckning så det blir troligen inga konstverk utav detta och man behöver inte visa upp det man ritar om man inte vill. \n\n\n\nVi kommer också att dricka te och dela om vår upplevelse.Enkla färgpennor\, kritor och papper kommer att finnas på plats men du får gärna ta med dig ditt eget material om du vill. \n\n\n\nLokal: Studio Atma\, Salthallarna på Bruksgatan 36 i Höganäs. \n\n\n\nAnmälan och frågor till Emma Dinmali Fredhamn\, e-post: emma@goldenpath.se eller sms 0732-304022. \n\n\n\nKostnad: 350 kr – kontant/swish på plats. \n\n\n\nEmma är Certifierad i EFT på nivå 2.
URL:https://goldenpath.se/event/tapping-teckning-och-te/
LOCATION:Studio Atma\, Salthallarna\, Bruksgatan 36\, Höganäs\, Sverige
CATEGORIES:Salthallarna, Höganäs,Workshop
ATTACH;FMTTYPE=image/jpeg:https://goldenpath.se/wp-content/uploads/2024/07/Tapping-och-teckning2.jpg
END:VEVENT
END:VCALENDAR