BEGIN:VCALENDAR
VERSION:2.0
PRODID:-//Golden Path - ECPv6.11.2.1//NONSGML v1.0//EN
CALSCALE:GREGORIAN
METHOD:PUBLISH
X-WR-CALNAME:Golden Path
X-ORIGINAL-URL:https://goldenpath.se
X-WR-CALDESC:Events for Golden Path
REFRESH-INTERVAL;VALUE=DURATION:PT1H
X-Robots-Tag:noindex
X-PUBLISHED-TTL:PT1H
BEGIN:VTIMEZONE
TZID:Europe/Stockholm
BEGIN:DAYLIGHT
TZOFFSETFROM:+0100
TZOFFSETTO:+0200
TZNAME:CEST
DTSTART:20240331T010000
END:DAYLIGHT
BEGIN:STANDARD
TZOFFSETFROM:+0200
TZOFFSETTO:+0100
TZNAME:CET
DTSTART:20241027T010000
END:STANDARD
END:VTIMEZONE
BEGIN:VEVENT
DTSTART;TZID=Europe/Stockholm:20240706T100000
DTEND;TZID=Europe/Stockholm:20240706T160000
DTSTAMP:20260424T084525
CREATED:20240522T171321Z
LAST-MODIFIED:20240522T172005Z
UID:1619-1720260000-1720281600@goldenpath.se
SUMMARY:Mindfulness\, Qigong & Natur
DESCRIPTION:För mig har natur\, qigong och mindfulness meditation varit viktiga element i läkning\, välmående och livet självt i många år.Det finns mycket erfarenheter från otaliga generationer människor som tagit sin tillflykt till naturen för att fylla på\, att lugna och balansera sig. Qigong övande har ett intimt samband med naturen och livsflödet som är extra starkt i orörda naturområden och vid vatten i rörelse. Mindfulness hjälper oss medvetandegöra vad som sker inom och omkring oss och denna kapacitet stärker vår erfarenhet i naturen och i rörelse.Det finns mycket forskning kring dessa tre aspekter och hur de är välgörande för oss.Vi börjar dagen i vårt Zen rum\, med te ceremoni\, delning av vad som ger glädje i våra liv\, qigong\, långsam gående meditation i trädgården\, vandring längst Bäljane å där vi kommer stanna till för att ta in ån\, ett träd och göra rörelser. Vegansk glutenfri lunch ingår och intas inomhus vid 13:30-14\, följt av djupavslappning\, qigong och meditation. Om vädret tillåter kommer vi ta en längre vandring med lunch i naturen.Kostnad/investering för dagen 450 kr.Det är en dag att vara oss själva\, i naturen och tillsammans. En dag är öka livsenergin inombords\, att nära lugn och glädje\, att finna nya sätt att grunda oss i vårt dagliga liv.Jem har undervisat mindfulness\, meditation och Dharma sedan 2010. Han har levt som Buddhistisk munk i 18 år och i många år övat qigong som han också utbildat sig i sedan han kom tillbaka till Sverige.Hör av dig om du vill vara med eller har frågor\, Messenger meddelande eller\, sms till Jem:0707389849.
URL:https://goldenpath.se/event/mindfulness-qigong-natur/
CATEGORIES:Workshop
ATTACH;FMTTYPE=image/jpeg:https://goldenpath.se/wp-content/uploads/2024/05/Mindfulness-Qigong-och-Natur-dag.jpg
END:VEVENT
END:VCALENDAR