BEGIN:VCALENDAR
VERSION:2.0
PRODID:-//Golden Path - ECPv6.11.2.1//NONSGML v1.0//EN
CALSCALE:GREGORIAN
METHOD:PUBLISH
X-ORIGINAL-URL:https://goldenpath.se
X-WR-CALDESC:Events for Golden Path
REFRESH-INTERVAL;VALUE=DURATION:PT1H
X-Robots-Tag:noindex
X-PUBLISHED-TTL:PT1H
BEGIN:VTIMEZONE
TZID:Europe/Stockholm
BEGIN:DAYLIGHT
TZOFFSETFROM:+0100
TZOFFSETTO:+0200
TZNAME:CEST
DTSTART:20240331T010000
END:DAYLIGHT
BEGIN:STANDARD
TZOFFSETFROM:+0200
TZOFFSETTO:+0100
TZNAME:CET
DTSTART:20241027T010000
END:STANDARD
END:VTIMEZONE
BEGIN:VEVENT
DTSTART;TZID=Europe/Stockholm:20240504T100000
DTEND;TZID=Europe/Stockholm:20240504T133000
DTSTAMP:20260424T120939
CREATED:20240404T090300Z
LAST-MODIFIED:20240410T103024Z
UID:1053-1714816800-1714829400@goldenpath.se
SUMMARY:Öppningsfirande av Golden Path
DESCRIPTION:Kom och fira öppningen av Golden Path med oss! \n\n\n\nVåra liv och företag har smält samman till en gyllene stig och det vill vi fira med vänner\, bekanta och med dig som är nyfiken på vad vi erbjuder. I vårt hem i Klippan har vi ett rum avsett för grupper\, sessioner och evenemang. Vi kallar det Zen-room. Denna dag firar vi där med dig som har lust och möjlighet att vara med. Du kan komma för en session\, bara fika eller det hela. Skriv till oss vad som passar dig att delta i. \n\n\n\n\n\n\n\n10.00-11.30 Te ceremoni och Qi gong \n\n\n\n11.30-12.00 Fika – vi bjuder på te och raw food kaka \n\n\n\n12.00-13.30 EFT tapping och familjekonstellations övning \n\n\n\nVarmt välkomna Emma och Jem \n\n\n\nAnmälan: Evenemanget är gratis men skriv till Emma för att anmäla dig sms 0732-30 40 22\, eller e-post emma@goldenpath.se eller via Messenger till Emma Dinmali Fredhamn. Om du vill delta på enbart en del av firandet är det fint om du meddelar vilken del.
URL:https://goldenpath.se/event/oppningsfirande-av-golden-path/
LOCATION:Zen-room\, Fredsgatan 11\, Klippan\, 26432\, Sverige
CATEGORIES:Workshop
ATTACH;FMTTYPE=image/jpeg:https://goldenpath.se/wp-content/uploads/2024/04/Firande1.jpg
END:VEVENT
BEGIN:VEVENT
DTSTART;TZID=Europe/Stockholm:20240504T160000
DTEND;TZID=Europe/Stockholm:20240504T173000
DTSTAMP:20260424T120939
CREATED:20240404T092944Z
LAST-MODIFIED:20240415T163222Z
UID:1067-1714838400-1714843800@goldenpath.se
SUMMARY:Öppningsfirande av Golden Path - Online
DESCRIPTION:Kom och fira öppningen av Golden Path med oss! \n\n\n\nVåra liv och företag har smält samman till en gyllene stig och det vill vi fira med dig som är nyfiken på vad vi erbjuder eller redan känner oss och vill fira med oss.  \n\n\n\nDu kan komma för ena sessionen eller båda. Vi ses via Zoom. \n\n\n\n\n\n\n\n16.00-17.30 Vi berättar om Golden Path\, Jem delar visdom kring värderingar och om att gå på en ädel stig och vi delar en stund i tystnad. Vi testar att göra en stunds EFT tapping kring att gå på en gyllene stig. Sen förklarar vi vår gemensamma gyllene stig öppen.  \n\n\n\nVarmt välkomna Emma och Jem \n\n\n\nAnmälan: Evenemanget är gratis men du behöver skriva upp dig här för att få Zoom-länken. \n\n\n\nVälkommen att anmäla dig till Öppningsfirandet här!\n\n\nAktivera JavaScript i din webbläsare för att slutföra detta formulär.Aktivera JavaScript i din webbläsare för att slutföra detta formulär.Name *E-mail *Donation *I have contributed through SwishI have contributed through PayPalI have not yet offered a donationI am not able to offer a donationWhat inspires you to participate in this online course?Join!
URL:https://goldenpath.se/event/oppningsfirande-av-golden-path-online/
CATEGORIES:Online,Workshop
ATTACH;FMTTYPE=image/jpeg:https://goldenpath.se/wp-content/uploads/2024/04/Firande2.jpg
END:VEVENT
BEGIN:VEVENT
DTSTART;TZID=Europe/Stockholm:20240506T183000
DTEND;TZID=Europe/Stockholm:20240506T200000
DTSTAMP:20260424T120939
CREATED:20240416T145904Z
LAST-MODIFIED:20240416T145907Z
UID:1520-1715020200-1715025600@goldenpath.se
SUMMARY:Mindfulness Meditation och Qigong
DESCRIPTION:Välkomna att öva mindfulness\, meditation och qigong tillsammans med Jem i Klippan\, 15 min promenad från stationen och 5 min promenad från centrum. \n\n\n\nAtt stanna upp och landa in i oss själva bidrar till vår livskvalité på många sätt. Vår andning kan börja röra sig friare i kroppen. Vår kropp börjar kunna lugnas och slappna av. Våra känslor och emotioner kan uppmärksammas och accepteras. Våra tankar och uppfattningar får ett ankare ner i kroppen som hjälper den mentala aktiviteten att lugnas. Genom att öva i mindfulness\, medveten närvaro\, kommer vi att börja uppleva stunden annorlunda och dess gåvor kan erfaras. Vi får mer tillgång till vår fria vilja och våra värderingar kan allt mer uttrycka sig genom våra tankar\, ord och handlingar. \n\n\n\n\n\n\n\nDessa kvällar är öppna för öppna för nybörjare och erfarna. De kommer erbjuda lugn\, grundning\, flöde och glädje. \n\n\n\nDörren öppnar kl. 18:30\, tid för samling\, samtal och en kopp te\, kl. 19 stängs dörren och meditationen börjar\, som är delvis guidad\, sittande/liggande/gående\, vid kl. 19:30 övergår vi till guidade qigong som är flödande och medvetna rörelser. Vi avslutar med en check-in runda. Detta upplägg följer med under våren\, men guidning\, meditationer och rörelser kommer varieras. Dessa kvällar genomförs i vårt Zen rum i vårt hem och vi har en katt. \n\n\n\nHör av dig till Jem med frågor och för att anmäla dig\, sms:0707389849\, e-post: jem@goldenpath.se\, så får du adressen. \n\n\n\nDessa kvällar erbjuds på donationsbasis. Föreslaget belopp för donation är 80 kr. Du kan erbjuda donation på plats med kontanter eller Swish. \n\n\n\nJem (Chan Phap Ho) har undervisat mindfulness och meditation som Dharma lärare sedan 2010. Han har i många år övat qigong och utbildade sig till lärare 2020-2022.
URL:https://goldenpath.se/event/mindfulness-meditation-och-qigong-2/
CATEGORIES:Workshop
ATTACH;FMTTYPE=image/jpeg:https://goldenpath.se/wp-content/uploads/2024/04/Mindfulness-Qigong-bild-med-text.jpg
END:VEVENT
BEGIN:VEVENT
DTSTART;TZID=Europe/Stockholm:20240518T100000
DTEND;TZID=Europe/Stockholm:20240518T130000
DTSTAMP:20260424T120939
CREATED:20240425T091342Z
LAST-MODIFIED:20240425T092437Z
UID:1566-1716026400-1716037200@goldenpath.se
SUMMARY:TRE - Trauma Release Exercises - Skaka dig fri!
DESCRIPTION:Välkommen till en workshop där du får lära dig TRE – Tension & Trauma Release Exercises eller för dig som vill repetera och få stöd att komma vidare med din TRE. \n\n\n\nTRE är en naturlig metod som förlöser ny och gammal stress från kropp och nervsystem. Det är en enkel metod att lära och om du lägger in dessa övningar i din dagliga rutin öppnar det för en bättre livskvalité med mer balans och en större tolerans för vardagens påfrestningar. \n\n\n\nNär man börjat göra övningarna är det vanligt att sömnen blir bättre\, att man känner ett större lugn i kroppen och har färre spänningar\, mindre irritation\, mer energi och ett jämnare humör. \n\n\n\n\n\n\n\n \n\n\n\nDu kommer du att få en introduktion till TRE och hur du ska kunna använda tekniken hemma för att kunna förlösa stress i vardagen. Vi kommer att prata om hur gammal stress och trauman påverkar kropp och nervsystem. \n\n\n\nDet kommer att finns utrymme för att skaka två omgångar med en paus emellan. Det finns även tid för att ställa frågor. \n\n\n\nTekniken består i fysiska övningar för att trötta ut främst psoas muskeln och sedan låta kroppens naturliga skakningar förlösa spänningar. Det är bra med löst sittande kläder. \n\n\n\nLokal: Zen Room\, Fredsgatan 11 i Klippan. Välkommen till vårt sessions och meditationsrum i vårt hem. Kom gärna 5-10 min innan start för att landa in i rummet. \n\n\n\nAnmälan och frågor till Emma Dinmali Fredhamn på e-post: emma@goldenpath.se\, via Messenger eller sms 0732-304022.Kostnad: 480 kr – swish när vi ses\, kontant eller faktura.Broschyr som bl a visar övningarna kan köpas till för 70 kr. \n\n\n\nTe finns för pausen men ta med om du vill äta frukt eller annat.Max 7 deltagare. \n\n\n\nDet går tåg från Helsingborg till Klippan och det tar ca 15 att gå från stationen hit.Buss 510 från Ängelholm går till hållplats Klippan Åbyhem och det tar ca 4 min att gå från den hållplatsen.Skriv gärna i evenemanget på facebook om samåkning – länk här. \n\n\n\nFör den som är allergisk så har vi har en katt hemma. \n\n\n\nEmma är Certifierad TRE instruktör.
URL:https://goldenpath.se/event/tre-trauma-release-exercises-skaka-dig-fri/
CATEGORIES:Workshop
ATTACH;FMTTYPE=image/jpeg:https://goldenpath.se/wp-content/uploads/2024/04/Skaka-dig-fri.jpg
END:VEVENT
BEGIN:VEVENT
DTSTART;TZID=Europe/Stockholm:20240520T183000
DTEND;TZID=Europe/Stockholm:20240520T200000
DTSTAMP:20260424T120939
CREATED:20240416T150126Z
LAST-MODIFIED:20240416T150129Z
UID:1522-1716229800-1716235200@goldenpath.se
SUMMARY:Mindfulness Meditation och Qigong
DESCRIPTION:Välkomna att öva mindfulness\, meditation och qigong tillsammans med Jem i Klippan\, 15 min promenad från stationen och 5 min promenad från centrum. \n\n\n\nAtt stanna upp och landa in i oss själva bidrar till vår livskvalité på många sätt. Vår andning kan börja röra sig friare i kroppen. Vår kropp börjar kunna lugnas och slappna av. Våra känslor och emotioner kan uppmärksammas och accepteras. Våra tankar och uppfattningar får ett ankare ner i kroppen som hjälper den mentala aktiviteten att lugnas. Genom att öva i mindfulness\, medveten närvaro\, kommer vi att börja uppleva stunden annorlunda och dess gåvor kan erfaras. Vi får mer tillgång till vår fria vilja och våra värderingar kan allt mer uttrycka sig genom våra tankar\, ord och handlingar. \n\n\n\n\n\n\n\nDessa kvällar är öppna för öppna för nybörjare och erfarna. De kommer erbjuda lugn\, grundning\, flöde och glädje. \n\n\n\nDörren öppnar kl. 18:30\, tid för samling\, samtal och en kopp te\, kl. 19 stängs dörren och meditationen börjar\, som är delvis guidad\, sittande/liggande/gående\, vid kl. 19:30 övergår vi till guidade qigong som är flödande och medvetna rörelser. Vi avslutar med en check-in runda. Detta upplägg följer med under våren\, men guidning\, meditationer och rörelser kommer varieras. Dessa kvällar genomförs i vårt Zen rum i vårt hem och vi har en katt. \n\n\n\nHör av dig till Jem med frågor och för att anmäla dig\, sms:0707389849\, e-post: jem@goldenpath.se\, så får du adressen. \n\n\n\nDessa kvällar erbjuds på donationsbasis. Föreslaget belopp för donation är 80 kr. Du kan erbjuda donation på plats med kontanter eller Swish. \n\n\n\nJem (Chan Phap Ho) har undervisat mindfulness och meditation som Dharma lärare sedan 2010. Han har i många år övat qigong och utbildade sig till lärare 2020-2022.
URL:https://goldenpath.se/event/mindfulness-meditation-och-qigong-3/
CATEGORIES:Workshop
ATTACH;FMTTYPE=image/jpeg:https://goldenpath.se/wp-content/uploads/2024/04/Mindfulness-Qigong-bild-med-text.jpg
END:VEVENT
END:VCALENDAR