BEGIN:VCALENDAR
VERSION:2.0
PRODID:-//Golden Path - ECPv6.11.2.1//NONSGML v1.0//EN
CALSCALE:GREGORIAN
METHOD:PUBLISH
X-WR-CALNAME:Golden Path
X-ORIGINAL-URL:https://goldenpath.se
X-WR-CALDESC:Events for Golden Path
REFRESH-INTERVAL;VALUE=DURATION:PT1H
X-Robots-Tag:noindex
X-PUBLISHED-TTL:PT1H
BEGIN:VTIMEZONE
TZID:Europe/Stockholm
BEGIN:DAYLIGHT
TZOFFSETFROM:+0100
TZOFFSETTO:+0200
TZNAME:CEST
DTSTART:20240331T010000
END:DAYLIGHT
BEGIN:STANDARD
TZOFFSETFROM:+0200
TZOFFSETTO:+0100
TZNAME:CET
DTSTART:20241027T010000
END:STANDARD
END:VTIMEZONE
BEGIN:VEVENT
DTSTART;TZID=Europe/Stockholm:20241103T100000
DTEND;TZID=Europe/Stockholm:20241103T110000
DTSTAMP:20260424T084837
CREATED:20240620T100101Z
LAST-MODIFIED:20241014T105219Z
UID:1666-1730628000-1730631600@goldenpath.se
SUMMARY:Tapping tillsammans!
DESCRIPTION:4 söndagar i november utforskar vi olika teman med stöd av tekniken EFT tapping. Vi ses via Zoom-länk och följs åt som en grupp för att skapa trygghet och gemenskap. Efter en timmes utforskande och tapping finns det möjlighet att stanna kvar ca 20 min för sharing/delning i en mindre grupp om 3-4 personer (detta är valfritt). Inga förkunskaper behövs. \n\n\n\nVåra träffar kommer att spelas in så att du kan titta igen och knacka mer. Skulle det vara någon söndag som du inte har möjlighet att vara med kan du ändå delta genom att titta i efterhand. \n\n\n\nLäs om EFT tapping här \n\n\n\n3 november – Kärlek och relationer till mig och andra \n\n\n\n10 november – Överflöd\, att ta emot och känna mitt värde \n\n\n\n17 november – Hälsa och min relation till min kropp \n\n\n\n24 november – Om lycka\, vad som står i vägen och vad jag behöver nu \n\n\n\n600 kr för 4 söndagsträffar. Anmäl dig genom att fylla i formuläret nedan och betala in avgiften via Swish 123-168 18 24 eller bankgiro 399-4266.  \n\n\n\nVälkommen att vara med! Varma hälsningar Emma  \n\n\n\n\n\n\n\n\nAktivera JavaScript i din webbläsare för att slutföra detta formulär.Aktivera JavaScript i din webbläsare för att slutföra detta formulär.Name *E-mail *Donation *I have contributed through SwishI have contributed through PayPalI have not yet offered a donationI am not able to offer a donationWhat inspires you to participate in this online course?Join!
URL:https://goldenpath.se/event/tapping-tillsammans/
CATEGORIES:Online kurs
ATTACH;FMTTYPE=image/png:https://goldenpath.se/wp-content/uploads/2024/06/Tapping-tillsammans.png
END:VEVENT
END:VCALENDAR