BEGIN:VCALENDAR
VERSION:2.0
PRODID:-//Golden Path - ECPv6.11.2.1//NONSGML v1.0//EN
CALSCALE:GREGORIAN
METHOD:PUBLISH
X-WR-CALNAME:Golden Path
X-ORIGINAL-URL:https://goldenpath.se
X-WR-CALDESC:Events for Golden Path
REFRESH-INTERVAL;VALUE=DURATION:PT1H
X-Robots-Tag:noindex
X-PUBLISHED-TTL:PT1H
BEGIN:VTIMEZONE
TZID:Europe/Stockholm
BEGIN:DAYLIGHT
TZOFFSETFROM:+0100
TZOFFSETTO:+0200
TZNAME:CEST
DTSTART:20260329T010000
END:DAYLIGHT
BEGIN:STANDARD
TZOFFSETFROM:+0200
TZOFFSETTO:+0100
TZNAME:CET
DTSTART:20261025T010000
END:STANDARD
END:VTIMEZONE
BEGIN:VEVENT
DTSTART;TZID=Europe/Stockholm:20260421T190000
DTEND;TZID=Europe/Stockholm:20260421T194500
DTSTAMP:20260421T115231
CREATED:20260415T104043Z
LAST-MODIFIED:20260415T104046Z
UID:3425-1776798000-1776800700@goldenpath.se
SUMMARY:Weekly Practice Session - Meditation
DESCRIPTION:Weekly Practice Sessions offer a steady\, welcoming rhythm to support presence\, clarity\, and genuine connection in everyday life. Each week opens a different doorway into meaningful living—meditation\, contemplative teachings\, gentle qigong\, or reflective inquiry and shared dialogue. These themes rotate naturally\, allowing each aspect of practice to deepen over time while offering both variety and continuity. Together\, we engage the body\, heart\, and mind with curiosity\, kindness\, and care. \n\n\n\nYou’re invited to come exactly as you are. Within a respectful and supportive space\, we explore lived experience together and gradually cultivate awareness\, compassion\, and integrity in daily life.Each session begins with a brief check-in in the chat\, followed by about 30 minutes of guided practice or teaching from Jem. The final 10 minutes are open for sharing\, reflections\, or questions. Every gathering includes a simple\, practical exercise you can carry with you into the coming week. \n\n\n\nThis cycle of four weeks is based in the theme: Coming HomeApril 21 – MeditationApril 28 – TeachingsMay 5 – QigongMay 12 – Reflection exercise and Sharing in groups(This four week rotation continues and the focus and themes will emerge naturally) \n\n\n\nThese sessions are offered on a dana (generosity) basis. Dana is the practice of giving and receiving in a natural flow of care and gratitude. Jem’s intention is to keep this space accessible and inclusive\, regardless of your financial circumstances. At the same time\, participants are invited to reflect on the value of what they receive and the time\, energy\, and ongoing care required to hold and sustain these gatherings. Jem has dedicated decades to simple\, mindful living and service in order to offer this work. Sharing and supporting one another from the heart is itself part of the practice\, cultivating a sense of richness and connection for all. \n\n\n\nIf you live in Sweden you can make your donations useing Swish\, to Golden Path AB: 123 168 18 24. Here is a link to Stripe where you can made a donation with debit/credit card.(Amounts are in SEK\, 100 SEK is about 10 USD/EURO/GBP) \n\n\nAktivera JavaScript i din webbläsare för att slutföra detta formulär.Aktivera JavaScript i din webbläsare för att slutföra detta formulär.		\n			want I the\n			\n		\n		Namn *E-post *I want to join the following session/s:April 21\, 19-19:45 CEST\, Meditation – Coming HomeApril 28\, 19-19:45 CEST\, Teachings – Coming HomeMay 5\, 19-19:45 CET\, Qigong – Coming HomeMay 12\, 19-19:45 CEST\, Reflection & Sharing – Coming HomeMay 19\, 19-19:45 CEST\, Meditation – Cultivating Well-BeingMay 26\, 19-19:45 CEST\, Teachings – Cultivating Well-BeingJune 2\, 19-19:45 CEST\, Qigong – Cultivating Well-BeingJune 9\, 19-19:45\, Reflection & Sharing – Cultivating Well-BeingJoin! You get a link for the Zoom session in an e-mail from jem@goldenpath.
URL:https://goldenpath.se/event/weekly-practice-session-meditation-2/
CATEGORIES:English speaking,FREE / Donation
ATTACH;FMTTYPE=image/jpeg:https://goldenpath.se/wp-content/uploads/2026/04/JEM-FB-Event-2.jpg
END:VEVENT
END:VCALENDAR